BEGIN:VCALENDAR
VERSION:2.0
PRODID://MusicLiveCOLCHESTER//musiclivecolchester.com//EN
BEGIN:VEVENT
SUMMARY:The Willows
DTSTART:20260611T200000
DTSTAMP:20260424T153100Z
UID:the-willows-cambridge-tickets-at-storeys-field-cen
DESCRIPTION:Folk roots band from Cambridge\, UK
GEO:52.21869;0.0886738
LOCATION:Storey's Field Centre
URL:https://musiclivecambridge.com/gigs/the-willows-cambridge-tickets-at-s
 toreys-field-cen
END:VEVENT
END:VCALENDAR
