BEGIN:VCALENDAR
VERSION:2.0
PRODID://MusicLiveCOLCHESTER//musiclivecolchester.com//EN
BEGIN:VEVENT
SUMMARY:The Utopia Strong
DTSTART:20260522T193000
DTSTAMP:20260424T153018Z
UID:the-utopia-strong-at-storeys-field-centre
DESCRIPTION:Medical Grade Music - Kavus Torabi\, Michael York\, Steve Davi
 s
GEO:52.21869;0.0886738
LOCATION:Storey's Field Centre
URL:https://musiclivecambridge.com/gigs/the-utopia-strong-at-storeys-field
 -centre
END:VEVENT
END:VCALENDAR
