BEGIN:VCALENDAR
VERSION:2.0
PRODID://MusicLiveCOLCHESTER//musiclivecolchester.com//EN
BEGIN:VEVENT
SUMMARY:Strawberry Sundae
DTSTART:20260503T130000
DTEND:20260503T230000
DTSTAMP:20260421T004004Z
UID:strawberry-sundae-3rd-may-26-the-portland-arms
DESCRIPTION:
GEO:52.2142558;0.1244971
LOCATION:The Portland Arms
URL:https://musiclivecambridge.com/gigs/strawberry-sundae-3rd-may-26-the-p
 ortland-arms
END:VEVENT
END:VCALENDAR
