BEGIN:VCALENDAR
VERSION:2.0
PRODID://MusicLiveCOLCHESTER//musiclivecolchester.com//EN
BEGIN:VEVENT
SUMMARY:Space
DTSTART:20261010T183000
DTSTAMP:20260421T141116Z
UID:space
DESCRIPTION:
GEO:52.2063787;0.1199775
LOCATION:MASH Cambridge
URL:https://musiclivecambridge.com/gigs/space
END:VEVENT
END:VCALENDAR
