BEGIN:VCALENDAR
VERSION:2.0
PRODID://MusicLiveCOLCHESTER//musiclivecolchester.com//EN
BEGIN:VEVENT
SUMMARY:Open Mic Night @ The Boathouse - 06/05/2026
DTSTART:20260506T194500
DTEND:20260506T220000
DTSTAMP:20260420T022431Z
UID:open-mic-night-the-boathouse-20260506
DESCRIPTION:Every Wednesday from 7.45pm
GEO:52.2138169;0.123519
LOCATION:The Boathouse
URL:https://musiclivecambridge.com/gigs/open-mic-night-the-boathouse-20260
 506
END:VEVENT
END:VCALENDAR
