BEGIN:VCALENDAR
VERSION:2.0
PRODID://MusicLiveCOLCHESTER//musiclivecolchester.com//EN
BEGIN:VEVENT
SUMMARY:Omar ‘Brighter The Day’ UK
DTSTART:20260606T183000
DTSTAMP:20260421T140820Z
UID:omar-brighter-the-day-uk
DESCRIPTION:
GEO:52.2063787;0.1199775
LOCATION:MASH Cambridge
URL:https://musiclivecambridge.com/gigs/omar-brighter-the-day-uk
END:VEVENT
END:VCALENDAR
