BEGIN:VCALENDAR
VERSION:2.0
PRODID://MusicLiveCOLCHESTER//musiclivecolchester.com//EN
BEGIN:VEVENT
SUMMARY:Noasis 'The Definitive Oasis Tribute Band’
DTSTART:20260919T183000
DTSTAMP:20260421T141208Z
UID:noasis-the-definitive-oasis-tribute-band
DESCRIPTION:Tribute band
GEO:52.2063787;0.1199775
LOCATION:MASH Cambridge
URL:https://musiclivecambridge.com/gigs/noasis-the-definitive-oasis-tribut
 e-band
END:VEVENT
END:VCALENDAR
