BEGIN:VCALENDAR
VERSION:2.0
PRODID://MusicLiveCOLCHESTER//musiclivecolchester.com//EN
BEGIN:VEVENT
SUMMARY:Moving Pictures - The Rush Tribute
DTSTART:20260612T183000
DTSTAMP:20260421T140442Z
UID:moving-pictures-the-rush-tribute
DESCRIPTION:Tribute band
GEO:52.2063787;0.1199775
LOCATION:MASH Cambridge
URL:https://musiclivecambridge.com/gigs/moving-pictures-the-rush-tribute
END:VEVENT
END:VCALENDAR
