BEGIN:VCALENDAR
VERSION:2.0
PRODID://MusicLiveCOLCHESTER//musiclivecolchester.com//EN
BEGIN:VEVENT
SUMMARY:Laura Veirs + Karl Blau
DTSTART:20260910T193000
DTSTAMP:20260424T153632Z
UID:laura-veirs-cambridge-tickets-at-storeys-field-cen
DESCRIPTION:
GEO:52.21869;0.0886738
LOCATION:Storey's Field Centre
URL:https://musiclivecambridge.com/gigs/laura-veirs-cambridge-tickets-at-s
 toreys-field-cen
END:VEVENT
END:VCALENDAR
