BEGIN:VCALENDAR
VERSION:2.0
PRODID://MusicLiveCOLCHESTER//musiclivecolchester.com//EN
BEGIN:VEVENT
SUMMARY:L1NKN P4RK
DTSTART:20260605T183000
DTSTAMP:20260421T141233Z
UID:l1nkn-p4rk-the-linkin-park-experience
DESCRIPTION:The Linkin Park Experience
GEO:52.2063787;0.1199775
LOCATION:MASH Cambridge
URL:https://musiclivecambridge.com/gigs/l1nkn-p4rk-the-linkin-park-experie
 nce
END:VEVENT
END:VCALENDAR
