BEGIN:VCALENDAR
VERSION:2.0
PRODID://MusicLiveCOLCHESTER//musiclivecolchester.com//EN
BEGIN:VEVENT
SUMMARY:Kris Drever
DTSTART:20260424T193000
DTSTAMP:20260424T140944Z
UID:kris-drever
DESCRIPTION:
GEO:52.21869;0.0886738
LOCATION:Storey's Field Centre
URL:https://musiclivecambridge.com/gigs/kris-drever
END:VEVENT
END:VCALENDAR
