BEGIN:VCALENDAR
VERSION:2.0
PRODID://MusicLiveCOLCHESTER//musiclivecolchester.com//EN
BEGIN:VEVENT
SUMMARY:John Bramwell
DTSTART:20260425T193000
DTSTAMP:20260424T140800Z
UID:john-bramwell-at-storeys-field-centre
DESCRIPTION:Mercury-prize nominated singer songwriter
GEO:52.21869;0.0886738
LOCATION:Storey's Field Centre
URL:https://musiclivecambridge.com/gigs/john-bramwell-at-storeys-field-cen
 tre
END:VEVENT
END:VCALENDAR
