BEGIN:VCALENDAR
VERSION:2.0
PRODID://MusicLiveCOLCHESTER//musiclivecolchester.com//EN
BEGIN:VEVENT
SUMMARY:Guns 2 Roses + Clone Temple Pilots
DTSTART:20260918T183000
DTSTAMP:20260421T141106Z
UID:guns-2-roses-2026-09-18
DESCRIPTION:The only Guns n' Roses tribute band to perform with four diffe
 rent GnR members
GEO:52.2063787;0.1199775
LOCATION:MASH Cambridge
URL:https://musiclivecambridge.com/gigs/guns-2-roses-2026-09-18
END:VEVENT
END:VCALENDAR
