BEGIN:VCALENDAR
VERSION:2.0
PRODID://MusicLiveCOLCHESTER//musiclivecolchester.com//EN
BEGIN:VEVENT
SUMMARY:GOOSTAVO + Support TBA
DTSTART:20260507T190000
DTSTAMP:20260425T134814Z
UID:goostavo-life-of-a-misfit-uk-tour
DESCRIPTION:Life of a Misfit UK tour
GEO:52.2052469;0.1340942
LOCATION:The Six Six
URL:https://musiclivecambridge.com/gigs/goostavo-life-of-a-misfit-uk-tour
END:VEVENT
END:VCALENDAR
