BEGIN:VCALENDAR
VERSION:2.0
PRODID://MusicLiveCOLCHESTER//musiclivecolchester.com//EN
BEGIN:VEVENT
SUMMARY:GANS at MASH Cambridge
DTSTART:20260502T183000
DTSTAMP:20260421T121928Z
UID:gans-at-mash-cambridge
DESCRIPTION:Two piece from Birmingham\, England who write music about love
  and hate
GEO:52.2063787;0.1199775
LOCATION:MASH Cambridge
URL:https://musiclivecambridge.com/gigs/gans-at-mash-cambridge
END:VEVENT
END:VCALENDAR
