BEGIN:VCALENDAR
VERSION:2.0
PRODID://MusicLiveCOLCHESTER//musiclivecolchester.com//EN
BEGIN:VEVENT
SUMMARY:Feeling Minnesota + Kissed by Vultures
DTSTART:20260509T193000
DTSTAMP:20260421T122732Z
UID:feeling-minnesota-kissed-by-vultures-9th-may-26-th
DESCRIPTION:The UK’s premier ’90s grunge tribute is coming back to Cam
 bridge
GEO:52.2142558;0.1244971
LOCATION:The Portland Arms
URL:https://musiclivecambridge.com/gigs/feeling-minnesota-kissed-by-vultur
 es-9th-may-26-th
END:VEVENT
END:VCALENDAR
