BEGIN:VCALENDAR
VERSION:2.0
PRODID://MusicLiveCOLCHESTER//musiclivecolchester.com//EN
BEGIN:VEVENT
SUMMARY:Christopher Cross
DTSTART:20260514T193000
DTSTAMP:20260424T140912Z
UID:christopher-cross-cambridge-corn-exchange
DESCRIPTION:
GEO:52.2044701;0.1196181
LOCATION:Cambridge Corn Exchange
URL:https://musiclivecambridge.com/gigs/christopher-cross-cambridge-corn-e
 xchange
END:VEVENT
END:VCALENDAR
