BEGIN:VCALENDAR
VERSION:2.0
PRODID://MusicLiveCOLCHESTER//musiclivecolchester.com//EN
BEGIN:VEVENT
SUMMARY:Stradivari Trust String Competition
DTSTART:20260519T131000
DTSTAMP:20260424T172838Z
UID:cambridge-university-lunchtime-concert-stradivari-
DESCRIPTION:Part of the Cambridge University Lunchtime Concert series
GEO:52.2027389;0.1078355
LOCATION:West Road Concert Hall
URL:https://musiclivecambridge.com/gigs/cambridge-university-lunchtime-con
 cert-stradivari-
END:VEVENT
END:VCALENDAR
