BEGIN:VCALENDAR
VERSION:2.0
PRODID://MusicLiveCOLCHESTER//musiclivecolchester.com//EN
BEGIN:VEVENT
SUMMARY:Cambridge Jazz Festival: The Gravy Train
DTSTART:20251120T203000
DTSTAMP:20260421T081920Z
UID:cambridge-jazz-festival-the-gravy-train
DESCRIPTION:FREE entry
GEO:52.2044427;0.1328024
LOCATION:The Tram Depot
URL:https://musiclivecambridge.com/gigs/cambridge-jazz-festival-the-gravy-
 train
END:VEVENT
END:VCALENDAR
