BEGIN:VCALENDAR
VERSION:2.0
PRODID://MusicLiveCOLCHESTER//musiclivecolchester.com//EN
BEGIN:VEVENT
SUMMARY:BLACKGOLD at MASH Cambridge
DTSTART:20260501T183000
DTSTAMP:20260421T123400Z
UID:blackgold-at-mash-cambridge
DESCRIPTION:
GEO:52.2063787;0.1199775
LOCATION:MASH Cambridge
URL:https://musiclivecambridge.com/gigs/blackgold-at-mash-cambridge
END:VEVENT
END:VCALENDAR
