BEGIN:VCALENDAR
VERSION:2.0
PRODID://MusicLiveCOLCHESTER//musiclivecolchester.com//EN
BEGIN:VEVENT
SUMMARY:Barbara
DTSTART:20260507T193000
DTSTAMP:20260421T004607Z
UID:barbara-7th-may-26
DESCRIPTION:Charming chamber pop from Brighton
GEO:52.2142558;0.1244971
LOCATION:The Portland Arms
URL:https://musiclivecambridge.com/gigs/barbara-7th-may-26
END:VEVENT
END:VCALENDAR
