BEGIN:VCALENDAR
VERSION:2.0
PRODID://MusicLiveCOLCHESTER//musiclivecolchester.com//EN
BEGIN:VEVENT
SUMMARY:Suntou Susso
DTSTART:20260515T200000
DTSTAMP:20260424T172445Z
UID:an-intimate-evening-with-the-kora
DESCRIPTION:An intimate evening with the kora
GEO:52.1904332;0.1358596
LOCATION:Cambridge Junction
URL:https://musiclivecambridge.com/gigs/an-intimate-evening-with-the-kora
END:VEVENT
END:VCALENDAR
